BEGIN:VCALENDAR
VERSION:2.0
PRODID:-//DF Seeds - ECPv6.15.20//NONSGML v1.0//EN
CALSCALE:GREGORIAN
METHOD:PUBLISH
X-ORIGINAL-URL:https://dfseeds.com
X-WR-CALDESC:Events for DF Seeds
REFRESH-INTERVAL;VALUE=DURATION:PT1H
X-Robots-Tag:noindex
X-PUBLISHED-TTL:PT1H
BEGIN:VTIMEZONE
TZID:America/New_York
BEGIN:DAYLIGHT
TZOFFSETFROM:-0500
TZOFFSETTO:-0400
TZNAME:EDT
DTSTART:20210314T070000
END:DAYLIGHT
BEGIN:STANDARD
TZOFFSETFROM:-0400
TZOFFSETTO:-0500
TZNAME:EST
DTSTART:20211107T060000
END:STANDARD
BEGIN:DAYLIGHT
TZOFFSETFROM:-0500
TZOFFSETTO:-0400
TZNAME:EDT
DTSTART:20220313T070000
END:DAYLIGHT
BEGIN:STANDARD
TZOFFSETFROM:-0400
TZOFFSETTO:-0500
TZNAME:EST
DTSTART:20221106T060000
END:STANDARD
BEGIN:DAYLIGHT
TZOFFSETFROM:-0500
TZOFFSETTO:-0400
TZNAME:EDT
DTSTART:20230312T070000
END:DAYLIGHT
BEGIN:STANDARD
TZOFFSETFROM:-0400
TZOFFSETTO:-0500
TZNAME:EST
DTSTART:20231105T060000
END:STANDARD
END:VTIMEZONE
BEGIN:VEVENT
DTSTART;TZID=America/New_York:20220630T100000
DTEND;TZID=America/New_York:20220630T130000
DTSTAMP:20260424T113957
CREATED:20220602T155333Z
LAST-MODIFIED:20220718T145637Z
UID:10000025-1656583200-1656594000@dfseeds.com
SUMMARY:Thumb Wheat Training
DESCRIPTION:Join for DF Seeds Wheat training in the thumb: 43.43299\, -83.678417 Richville\, Michigan \n 
URL:https://dfseeds.com/event/thumb-wheat-training/
LOCATION:Thumb Wheat Training\, Richville\, MI\, United States
CATEGORIES:Plot tour
ATTACH;FMTTYPE=image/jpeg:https://dfseeds.com/wp-content/uploads/2022/01/seed-wheat-e1654184259378.jpg
GEO:43.40919;-83.677185
END:VEVENT
BEGIN:VEVENT
DTSTART;TZID=America/New_York:20220630T140000
DTEND;TZID=America/New_York:20220630T160000
DTSTAMP:20260424T113957
CREATED:20220602T155715Z
LAST-MODIFIED:20220627T170819Z
UID:10000026-1656597600-1656604800@dfseeds.com
SUMMARY:Northern Thumb Wheat Training
DESCRIPTION:Please join DF Seeds for wheat training in the Northern Thumb. \n43.721972\, -83.305523 Pigeon/Sebawing
URL:https://dfseeds.com/event/northern-thumb-wheat-training/
LOCATION:Nothern Thumb Wheat Training\, Pigeon\, MI\, United States
CATEGORIES:Plot tour
ATTACH;FMTTYPE=image/jpeg:https://dfseeds.com/wp-content/uploads/2022/01/seed-wheat-e1654184259378.jpg
GEO:43.8300151;-83.2699553
END:VEVENT
END:VCALENDAR