BEGIN:VCALENDAR
VERSION:2.0
PRODID:-//DF Seeds - ECPv6.15.20//NONSGML v1.0//EN
CALSCALE:GREGORIAN
METHOD:PUBLISH
X-WR-CALNAME:DF Seeds
X-ORIGINAL-URL:https://dfseeds.com
X-WR-CALDESC:Events for DF Seeds
REFRESH-INTERVAL;VALUE=DURATION:PT1H
X-Robots-Tag:noindex
X-PUBLISHED-TTL:PT1H
BEGIN:VTIMEZONE
TZID:America/Chicago
BEGIN:DAYLIGHT
TZOFFSETFROM:-0600
TZOFFSETTO:-0500
TZNAME:CDT
DTSTART:20240310T080000
END:DAYLIGHT
BEGIN:STANDARD
TZOFFSETFROM:-0500
TZOFFSETTO:-0600
TZNAME:CST
DTSTART:20241103T070000
END:STANDARD
BEGIN:DAYLIGHT
TZOFFSETFROM:-0600
TZOFFSETTO:-0500
TZNAME:CDT
DTSTART:20250309T080000
END:DAYLIGHT
BEGIN:STANDARD
TZOFFSETFROM:-0500
TZOFFSETTO:-0600
TZNAME:CST
DTSTART:20251102T070000
END:STANDARD
BEGIN:DAYLIGHT
TZOFFSETFROM:-0600
TZOFFSETTO:-0500
TZNAME:CDT
DTSTART:20260308T080000
END:DAYLIGHT
BEGIN:STANDARD
TZOFFSETFROM:-0500
TZOFFSETTO:-0600
TZNAME:CST
DTSTART:20261101T070000
END:STANDARD
END:VTIMEZONE
BEGIN:VEVENT
DTSTART;TZID=America/Chicago:20251203T093000
DTEND;TZID=America/Chicago:20251203T153000
DTSTAMP:20260424T193530
CREATED:20251117T210427Z
LAST-MODIFIED:20251117T221220Z
UID:10000059-1764754200-1764775800@dfseeds.com
SUMMARY:Dealer Winter Agronomy Meeting
DESCRIPTION:Registration: 9:30 AM\nMeeting: 10:00 AM – 3:00 PM \nLunch included.\nAgenda includes a review of plot research\, variety recommendations and supply management updates.
URL:https://dfseeds.com/event/dealer-winter-agronomy-meeting/
LOCATION:AgroLiquid Conference Center\, 3055 W. M-21\, St. Johns\, MI\, 48879
ATTACH;FMTTYPE=image/jpeg:https://dfseeds.com/wp-content/uploads/2025/11/20250911_190132348_iOS-scaled.jpg
GEO:43.0000349;-84.5836527
X-APPLE-STRUCTURED-LOCATION;VALUE=URI;X-ADDRESS=AgroLiquid Conference Center 3055 W. M-21 St. Johns MI 48879;X-APPLE-RADIUS=500;X-TITLE=3055 W. M-21:geo:-84.5836527,43.0000349
END:VEVENT
END:VCALENDAR