BEGIN:VCALENDAR
VERSION:2.0
PRODID:-//DF Seeds - ECPv6.15.20//NONSGML v1.0//EN
CALSCALE:GREGORIAN
METHOD:PUBLISH
X-ORIGINAL-URL:https://dfseeds.com
X-WR-CALDESC:Events for DF Seeds
REFRESH-INTERVAL;VALUE=DURATION:PT1H
X-Robots-Tag:noindex
X-PUBLISHED-TTL:PT1H
BEGIN:VTIMEZONE
TZID:America/Chicago
BEGIN:DAYLIGHT
TZOFFSETFROM:-0600
TZOFFSETTO:-0500
TZNAME:CDT
DTSTART:20220313T080000
END:DAYLIGHT
BEGIN:STANDARD
TZOFFSETFROM:-0500
TZOFFSETTO:-0600
TZNAME:CST
DTSTART:20221106T070000
END:STANDARD
BEGIN:DAYLIGHT
TZOFFSETFROM:-0600
TZOFFSETTO:-0500
TZNAME:CDT
DTSTART:20230312T080000
END:DAYLIGHT
BEGIN:STANDARD
TZOFFSETFROM:-0500
TZOFFSETTO:-0600
TZNAME:CST
DTSTART:20231105T070000
END:STANDARD
BEGIN:DAYLIGHT
TZOFFSETFROM:-0600
TZOFFSETTO:-0500
TZNAME:CDT
DTSTART:20240310T080000
END:DAYLIGHT
BEGIN:STANDARD
TZOFFSETFROM:-0500
TZOFFSETTO:-0600
TZNAME:CST
DTSTART:20241103T070000
END:STANDARD
END:VTIMEZONE
BEGIN:VEVENT
DTSTART;TZID=America/Chicago:20230222T090000
DTEND;TZID=America/Chicago:20230222T153000
DTSTAMP:20260424T122824
CREATED:20230109T221314Z
LAST-MODIFIED:20230109T221314Z
UID:10000039-1677056400-1677079800@dfseeds.com
SUMMARY:Michigan Wheat Program - Winter Grower Meeting
DESCRIPTION:Attending the Michigan Wheat Winter Grower Meeting? \nConnect with us on how our wheat products can create more value on your acre. \n8 RUP credits available through the event.
URL:https://dfseeds.com/event/michigan-wheat-program-winter-grower-meeting/
LOCATION:Saginaw Valley Research & Extension Center\, Frankenmuth.\, 3775 S Reese Rd\, Frankenmuth\, MI\, 48734\, United States
ATTACH;FMTTYPE=image/png:https://dfseeds.com/wp-content/uploads/2022/01/Michigan-Wheat-Logo.png
GEO:43.399555;-83.6969958
X-APPLE-STRUCTURED-LOCATION;VALUE=URI;X-ADDRESS=Saginaw Valley Research & Extension Center Frankenmuth. 3775 S Reese Rd Frankenmuth MI 48734 United States;X-APPLE-RADIUS=500;X-TITLE=3775 S Reese Rd:geo:-83.6969958,43.399555
END:VEVENT
END:VCALENDAR